BEGIN:VCALENDAR
VERSION:2.0
PRODID:-//Biomax - ECPv6.15.20//NONSGML v1.0//EN
CALSCALE:GREGORIAN
METHOD:PUBLISH
X-WR-CALNAME:Biomax
X-ORIGINAL-URL:https://biomaxmedical.com.br
X-WR-CALDESC:Eventos para Biomax
REFRESH-INTERVAL;VALUE=DURATION:PT1H
X-Robots-Tag:noindex
X-PUBLISHED-TTL:PT1H
BEGIN:VTIMEZONE
TZID:America/Sao_Paulo
BEGIN:STANDARD
TZOFFSETFROM:-0200
TZOFFSETTO:-0300
TZNAME:-03
DTSTART:20170219T020000
END:STANDARD
BEGIN:DAYLIGHT
TZOFFSETFROM:-0300
TZOFFSETTO:-0200
TZNAME:-02
DTSTART:20171015T030000
END:DAYLIGHT
BEGIN:STANDARD
TZOFFSETFROM:-0200
TZOFFSETTO:-0300
TZNAME:-03
DTSTART:20180218T020000
END:STANDARD
BEGIN:DAYLIGHT
TZOFFSETFROM:-0300
TZOFFSETTO:-0200
TZNAME:-02
DTSTART:20181104T030000
END:DAYLIGHT
BEGIN:STANDARD
TZOFFSETFROM:-0200
TZOFFSETTO:-0300
TZNAME:-03
DTSTART:20190217T020000
END:STANDARD
END:VTIMEZONE
BEGIN:VEVENT
DTSTART;VALUE=DATE:20231123
DTEND;VALUE=DATE:20231126
DTSTAMP:20260423T155101
CREATED:20231127T195531Z
LAST-MODIFIED:20231129T143631Z
UID:16672-1700697600-1700956799@biomaxmedical.com.br
SUMMARY:16º COPAC – Congresso Paulista de Cirurgia e Traumatologia Buco-Maxilo-Facial
DESCRIPTION:
URL:https://biomaxmedical.com.br/evento-completo/16o-copac-congresso-paulista-de-cirurgia-e-traumatologia-buco-maxilo-facial/
CATEGORIES:Eventos
ATTACH;FMTTYPE=image/jpeg:https://biomaxmedical.com.br/wp-content/uploads/2023/11/capa-16-copac1.jpg
END:VEVENT
BEGIN:VEVENT
DTSTART;VALUE=DATE:20231120
DTEND;VALUE=DATE:20231123
DTSTAMP:20260423T155101
CREATED:20231127T193512Z
LAST-MODIFIED:20231129T143707Z
UID:16668-1700438400-1700697599@biomaxmedical.com.br
SUMMARY:Cadaver Hands-on Training Course – Edition III
DESCRIPTION:
URL:https://biomaxmedical.com.br/evento-completo/cadaver-hands-on-training-course-edition-iii/
CATEGORIES:Eventos
ATTACH;FMTTYPE=image/jpeg:https://biomaxmedical.com.br/wp-content/uploads/2023/11/capa-cadaver-hands-on-III.jpg
END:VEVENT
BEGIN:VEVENT
DTSTART;TZID=America/Sao_Paulo:20221119T080000
DTEND;TZID=America/Sao_Paulo:20221120T170000
DTSTAMP:20260423T155101
CREATED:20230130T210258Z
LAST-MODIFIED:20230130T225450Z
UID:16515-1668844800-1668963600@biomaxmedical.com.br
SUMMARY:L1® MI Orthognathics – Cadaver Hands-on Training Course – 2ª Edição
DESCRIPTION:
URL:https://biomaxmedical.com.br/evento-completo/l1-mi-orthognathics-cadaver-hands-on-training-course-edition-ii/
CATEGORIES:Eventos
ATTACH;FMTTYPE=image/jpeg:https://biomaxmedical.com.br/wp-content/uploads/2023/01/1111-980x735-1.jpg
END:VEVENT
BEGIN:VEVENT
DTSTART;VALUE=DATE:20220818
DTEND;VALUE=DATE:20220819
DTSTAMP:20260423T155101
CREATED:20221221T232241Z
LAST-MODIFIED:20230131T212816Z
UID:16364-1660780800-1660867199@biomaxmedical.com.br
SUMMARY:L1® MI Orthognathics – Distrator Palatal com técnica de Cirurgia Minimamente Invasiva
DESCRIPTION:
URL:https://biomaxmedical.com.br/evento-completo/l1-mi-orthognathics-distrator-palatal-com-tecnica-de-cirurgia-minimamente-invasiva/
CATEGORIES:Eventos
ATTACH;FMTTYPE=image/jpeg:https://biomaxmedical.com.br/wp-content/uploads/2022/12/12155-4-980x735-1.jpg
END:VEVENT
BEGIN:VEVENT
DTSTART;VALUE=DATE:20220618
DTEND;VALUE=DATE:20220619
DTSTAMP:20260423T155101
CREATED:20221207T184634Z
LAST-MODIFIED:20230130T220641Z
UID:15972-1655510400-1655596799@biomaxmedical.com.br
SUMMARY:L1® MI Orthognathics – Cadaver Hands-on Training Course
DESCRIPTION:
URL:https://biomaxmedical.com.br/evento-completo/l1-mi-orthognathics-cadaver-hands-on-training-course/
CATEGORIES:Eventos
ATTACH;FMTTYPE=image/jpeg:https://biomaxmedical.com.br/wp-content/uploads/2022/12/CAPA-L1®-MI-Orthognathics-–-Cadaver-Hands-on-Training-Course.jpg
END:VEVENT
BEGIN:VEVENT
DTSTART;TZID=America/Sao_Paulo:20220614T080000
DTEND;TZID=America/Sao_Paulo:20220617T170000
DTSTAMP:20260423T155101
CREATED:20221221T231928Z
LAST-MODIFIED:20230130T225958Z
UID:16362-1655193600-1655485200@biomaxmedical.com.br
SUMMARY:XXV Congresso Brasileiro de Cirurgia e Traumatologia Bucomaxilofacial – COBRAC 2022
DESCRIPTION:
URL:https://biomaxmedical.com.br/evento-completo/xxv-congresso-brasileiro-de-cirurgia-e-traumatologia-bucomaxilofacial-cobrac-2022/
CATEGORIES:Eventos
ATTACH;FMTTYPE=image/jpeg:https://biomaxmedical.com.br/wp-content/uploads/2022/12/21514-4-980x735-1.jpg
END:VEVENT
BEGIN:VEVENT
DTSTART;VALUE=DATE:20191129
DTEND;VALUE=DATE:20191130
DTSTAMP:20260423T155101
CREATED:20221221T231701Z
LAST-MODIFIED:20230130T230232Z
UID:16353-1574985600-1575071999@biomaxmedical.com.br
SUMMARY:CMF 2019 – Olhando Para o Futuro
DESCRIPTION:
URL:https://biomaxmedical.com.br/evento-completo/cmf-2019-olhando-para-o-futuro/
CATEGORIES:Eventos
ATTACH;FMTTYPE=image/jpeg:https://biomaxmedical.com.br/wp-content/uploads/2022/12/1242-4-980x735-1.jpg
END:VEVENT
BEGIN:VEVENT
DTSTART;VALUE=DATE:20191024
DTEND;VALUE=DATE:20191025
DTSTAMP:20260423T155101
CREATED:20221221T231351Z
LAST-MODIFIED:20230131T140946Z
UID:16345-1571875200-1571961599@biomaxmedical.com.br
SUMMARY:WORKSHOP: USO DO PIEZOELÉTRICO NA OTORRINOLARINGOLOGIA
DESCRIPTION:
URL:https://biomaxmedical.com.br/evento-completo/workshop-uso-do-piezoeletrico-na-otorrinolaringologia/
CATEGORIES:Eventos
ATTACH;FMTTYPE=image/jpeg:https://biomaxmedical.com.br/wp-content/uploads/2022/12/D8-980x735-1.jpg
END:VEVENT
BEGIN:VEVENT
DTSTART;TZID=America/Sao_Paulo:20190626T080000
DTEND;TZID=America/Sao_Paulo:20190629T170000
DTSTAMP:20260423T155101
CREATED:20221221T231133Z
LAST-MODIFIED:20230131T142959Z
UID:16343-1561536000-1561827600@biomaxmedical.com.br
SUMMARY:Course Cirurgia CMF Implant Knowledge Latin America
DESCRIPTION:
URL:https://biomaxmedical.com.br/evento-completo/course-cirurgia-cmf-implant-knowledge-latin-america/
CATEGORIES:Eventos
ATTACH;FMTTYPE=image/jpeg:https://biomaxmedical.com.br/wp-content/uploads/2022/12/04-4-980x735-1.jpg
END:VEVENT
BEGIN:VEVENT
DTSTART;TZID=America/Sao_Paulo:20190424T080000
DTEND;TZID=America/Sao_Paulo:20190426T170000
DTSTAMP:20260423T155101
CREATED:20221221T230952Z
LAST-MODIFIED:20230131T143322Z
UID:16338-1556092800-1556298000@biomaxmedical.com.br
SUMMARY:55º Curso de Cirurgia Estética e Funcional do Nariz
DESCRIPTION:
URL:https://biomaxmedical.com.br/evento-completo/55o-curso-de-cirurgia-estetica-e-funcional-do-nariz/
CATEGORIES:Eventos
ATTACH;FMTTYPE=image/jpeg:https://biomaxmedical.com.br/wp-content/uploads/2022/12/07-4-980x735-1.jpg
END:VEVENT
BEGIN:VEVENT
DTSTART;TZID=America/Sao_Paulo:20190412T080000
DTEND;TZID=America/Sao_Paulo:20190413T170000
DTSTAMP:20260423T155101
CREATED:20221221T230918Z
LAST-MODIFIED:20230131T152452Z
UID:16336-1555056000-1555174800@biomaxmedical.com.br
SUMMARY:2º Simpósio Internacional da Sociedade Brasileira de Cirurgia e Traumatologia Buco Maxilo Facial – SOBRACIBU
DESCRIPTION:
URL:https://biomaxmedical.com.br/evento-completo/2o-simposio-internacional-da-sociedade-brasileira-de-cirurgia-e-traumatologia-buco-maxilo-facial-sobracibu/
CATEGORIES:Eventos
ATTACH;FMTTYPE=image/jpeg:https://biomaxmedical.com.br/wp-content/uploads/2022/12/60-4-980x735-1.jpg
END:VEVENT
BEGIN:VEVENT
DTSTART;TZID=America/Sao_Paulo:20181031T080000
DTEND;TZID=America/Sao_Paulo:20181103T170000
DTSTAMP:20260423T155101
CREATED:20221221T230841Z
LAST-MODIFIED:20230131T152558Z
UID:16334-1540972800-1541264400@biomaxmedical.com.br
SUMMARY:48º Congresso Brasileiro de Otorrinolaringologia e Cirurgia Cérvico-Facial
DESCRIPTION:
URL:https://biomaxmedical.com.br/evento-completo/48o-congresso-brasileiro-de-otorrinolaringologia-e-cirurgia-cervico-facial/
CATEGORIES:Eventos
ATTACH;FMTTYPE=image/jpeg:https://biomaxmedical.com.br/wp-content/uploads/2022/12/capa-980x616-1.jpg
END:VEVENT
BEGIN:VEVENT
DTSTART;TZID=America/Sao_Paulo:20181025T080000
DTEND;TZID=America/Sao_Paulo:20181027T170000
DTSTAMP:20260423T155101
CREATED:20221221T225306Z
LAST-MODIFIED:20230131T152718Z
UID:16332-1540454400-1540659600@biomaxmedical.com.br
SUMMARY:COPAC 2018 – Congresso Paulista de Cirurgia Buco Maxilo Facial
DESCRIPTION:
URL:https://biomaxmedical.com.br/evento-completo/copac-2018-congresso-paulista-de-cirurgia-buco-maxilo-facial/
CATEGORIES:Eventos
ATTACH;FMTTYPE=image/jpeg:https://biomaxmedical.com.br/wp-content/uploads/2022/12/67-4-980x735-1.jpg
END:VEVENT
BEGIN:VEVENT
DTSTART;TZID=America/Sao_Paulo:20180921T080000
DTEND;TZID=America/Sao_Paulo:20180923T170000
DTSTAMP:20260423T155101
CREATED:20221221T224949Z
LAST-MODIFIED:20230131T152824Z
UID:16330-1537516800-1537722000@biomaxmedical.com.br
SUMMARY:XV Congresso Brasileiro de Cirurgia Crânio-Maxilo-Facial (ABCCMF)
DESCRIPTION:
URL:https://biomaxmedical.com.br/evento-completo/xv-congresso-brasileiro-de-cirurgia-cranio-maxilo-facial-abccmf/
CATEGORIES:Eventos
ATTACH;FMTTYPE=image/jpeg:https://biomaxmedical.com.br/wp-content/uploads/2022/12/70-4-980x735-1.jpg
END:VEVENT
BEGIN:VEVENT
DTSTART;TZID=America/Sao_Paulo:20180918T080000
DTEND;TZID=America/Sao_Paulo:20180918T170000
DTSTAMP:20260423T155101
CREATED:20221221T224821Z
LAST-MODIFIED:20230131T152823Z
UID:16328-1537257600-1537290000@biomaxmedical.com.br
SUMMARY:Programa de Educação Continuada – SOBRACIBU
DESCRIPTION:
URL:https://biomaxmedical.com.br/evento-completo/programa-de-educacao-continuada-sobracibu/
CATEGORIES:Eventos
ATTACH;FMTTYPE=image/jpeg:https://biomaxmedical.com.br/wp-content/uploads/2022/12/73-4-980x735-1.jpg
END:VEVENT
END:VCALENDAR